BEGIN:VCALENDAR
VERSION:2.0
PRODID:-//Roanoke Bar Association - ECPv6.8.3//NONSGML v1.0//EN
CALSCALE:GREGORIAN
METHOD:PUBLISH
X-WR-CALNAME:Roanoke Bar Association
X-ORIGINAL-URL:https://roanokebar.com
X-WR-CALDESC:Events for Roanoke Bar Association
REFRESH-INTERVAL;VALUE=DURATION:PT1H
X-Robots-Tag:noindex
X-PUBLISHED-TTL:PT1H
BEGIN:VTIMEZONE
TZID:America/New_York
BEGIN:DAYLIGHT
TZOFFSETFROM:-0500
TZOFFSETTO:-0400
TZNAME:EDT
DTSTART:20230312T070000
END:DAYLIGHT
BEGIN:STANDARD
TZOFFSETFROM:-0400
TZOFFSETTO:-0500
TZNAME:EST
DTSTART:20231105T060000
END:STANDARD
BEGIN:DAYLIGHT
TZOFFSETFROM:-0500
TZOFFSETTO:-0400
TZNAME:EDT
DTSTART:20240310T070000
END:DAYLIGHT
BEGIN:STANDARD
TZOFFSETFROM:-0400
TZOFFSETTO:-0500
TZNAME:EST
DTSTART:20241103T060000
END:STANDARD
END:VTIMEZONE
BEGIN:VEVENT
DTSTART;TZID=America/New_York:20230821T080000
DTEND;TZID=America/New_York:20240501T150000
DTSTAMP:20260422T170220
CREATED:20230316T183719Z
LAST-MODIFIED:20240220T164909Z
UID:8231-1692604800-1714575600@roanokebar.com
SUMMARY:Barrister Book Buddies\, 2023-2024
DESCRIPTION:Barrister Book Buddies Returns for 2023-2024!!\nIn 2019-2020 the RBA celebrated the 20th year of Barrister Book Buddies. Due to COVID the program was put on hold until it was safe to resume in-person events. The Roanoke City Schools has asked us to return for 2023-2024. We currently have more than 40 teachers who are looking for a Buddy this fall. The elementary schools are: Hurt Park\,  Preston Park\, Morningside\, Fallon Park\, Lincoln Terrace and Virginia Heights. We are asking for volunteers to register now to ensure we have enough volunteers when school begins in August. \nEach Book Buddy is asked to read for an hour\, at least once a month.  You may read more often if you wish.  Once the assignments are made\, it is the responsibility of the Book Buddy and the teacher to contact each other and determine the schedule. \nIf you have a preference for school and/or grade\, please note that on your registration.   \nEvery attempt will be made to honor your request\, but that will depend upon the needs of the schools.  We appreciate your willingness to help wherever you are needed. We encourage you to sign up for this award-winning community service program and make a difference in a child’s life. \nWe appreciate your participation and look forward to re-starting the Barrister Book Buddies. \nRegistration for 2023-2024 is closed.
URL:https://roanokebar.com/event/barrister-book-buddies-2023-2024/
END:VEVENT
BEGIN:VEVENT
DTSTART;TZID=America/New_York:20230912T120000
DTEND;TZID=America/New_York:20230912T120000
DTSTAMP:20260422T170220
CREATED:20230810T181211Z
LAST-MODIFIED:20230908T030611Z
UID:8459-1694520000-1694520000@roanokebar.com
SUMMARY:RBA - Luncheon\, September 12\, 2023
DESCRIPTION:Date/Time:\n\n\nSeptember 12 \, 2023\nThe Shenandoah Club\nBuffet line begins at 12:00 noon; meeting begins at 12:25 p.m.\n\n\n\n\n\n\n\n\n Program:\n\n\nThe speaker will be Dr. Todd Peppers. He will speak on changes at the US Supreme Court. Dr. Peppers is a professor of political science at Roanoke College and presently holds the Heny H. And Trudye H. Fowler Chair. He is the author of multiple books and articles on the U.S. Supreme Court.\n\n\n\n\n\n\n\n\n Board Meeting:\n\n\n10:45 a.m. Executive Committee\, 11:00 a.m. Board Meeting\n\n\n\n\n\n\n\n\nMemorial Resolution:\n\n\nNone\n\n\n\n\n\n\n\n\n\nMeeting Reservations: \n\n\n\n\n\n\n\n\n Cost:\n\n\n$25.00; make check payable to Roanoke Bar Association\n\n\n\n\n\n\n\n\n Payment:\n\n\nPayment is expected at the door.\n\n\n\n\n\n\n\n\n Parking:\n\n\nParking in the Shenandoah Club lot is for club members only. Parking is available at the Franklin Road parking lot adjacent to the Club.\n\n\n\n\n\n\n\n\n Reservation #:\n\n\nPlease register below for the in-person luncheon.\n\n\n\n\n\n\n\n\n Deadline:\n\n\nAll reservations and cancellations must be received by 4:00 p.m. on Thursday\, September 7\, 2023. After the deadline you may send a substitute to avoid a cancellations penalty. All other cancellations after the deadline will be billed $25.00. Registration is now closed. For walk-in availability please email rba@roanokebar.com\n\n\n\n\n\n\n\n\n\n\n\n\n 
URL:https://roanokebar.com/event/rba-luncheon-september-12-2023/
LOCATION:The Shenandoah Club
END:VEVENT
END:VCALENDAR